Package: phantasus Version: 1.31.0 Command: /Library/Frameworks/R.framework/Resources/bin/R CMD build --keep-empty-dirs --no-resave-data phantasus StartedAt: 2025-11-20 18:11:30 -0500 (Thu, 20 Nov 2025) EndedAt: 2025-11-20 18:12:26 -0500 (Thu, 20 Nov 2025) EllapsedTime: 56.1 seconds RetCode: 0 Status: OK PackageFile: phantasus_1.31.0.tar.gz PackageFileSize: 9.551 MiB