Package: phantasus Version: 1.31.0 Command: rm -rf phantasus.buildbin-libdir && mkdir phantasus.buildbin-libdir && /Users/biocbuild/BBS/utils/build-universal.sh phantasus_1.31.0.tar.gz /Library/Frameworks/R.framework/Resources/bin/R phantasus.buildbin-libdir StartedAt: 2025-11-21 01:48:55 -0500 (Fri, 21 Nov 2025) EndedAt: 2025-11-21 01:49:50 -0500 (Fri, 21 Nov 2025) EllapsedTime: 54.5 seconds RetCode: 0 Status: OK PackageFile: phantasus_1.31.0.tgz PackageFileSize: 8.346 MiB