Package: phantasus Version: 1.29.0 Command: /Library/Frameworks/R.framework/Resources/bin/R CMD INSTALL phantasus StartedAt: 2025-10-17 15:31:37 -0400 (Fri, 17 Oct 2025) EndedAt: 2025-10-17 15:31:51 -0400 (Fri, 17 Oct 2025) EllapsedTime: 14.4 seconds RetCode: 0 Status: OK