Package: phantasus Version: 1.29.0 Command: /Library/Frameworks/R.framework/Resources/bin/R CMD build --keep-empty-dirs --no-resave-data phantasus StartedAt: 2025-10-16 17:32:44 -0400 (Thu, 16 Oct 2025) EndedAt: 2025-10-16 17:33:02 -0400 (Thu, 16 Oct 2025) EllapsedTime: 18.2 seconds RetCode: 0 Status: OK PackageFile: phantasus_1.29.0.tar.gz PackageFileSize: 9.551 MiB