Package: pgxRpi Version: 1.5.5 Command: /home/biocbuild/R/R/bin/R CMD INSTALL pgxRpi StartedAt: 2025-10-16 21:46:50 -0000 (Thu, 16 Oct 2025) EndedAt: 2025-10-16 21:46:55 -0000 (Thu, 16 Oct 2025) EllapsedTime: 5.1 seconds RetCode: 0 Status: OK