Package: pgxRpi Version: 1.5.5 Command: /home/biocbuild/R/R/bin/R CMD build --keep-empty-dirs --no-resave-data pgxRpi StartedAt: 2025-10-14 02:32:32 -0000 (Tue, 14 Oct 2025) EndedAt: 2025-10-14 02:42:38 -0000 (Tue, 14 Oct 2025) EllapsedTime: 606.4 seconds RetCode: 0 Status: OK PackageFile: pgxRpi_1.5.5.tar.gz PackageFileSize: 1.696 MiB