Package: pgxRpi Version: 1.5.5 Command: /home/biocbuild/bbs-3.22-bioc/R/bin/R CMD check --install=check:pgxRpi.install-out.txt --library=/home/biocbuild/bbs-3.22-bioc/R/site-library --timings pgxRpi_1.5.5.tar.gz StartedAt: 2025-10-11 03:04:26 -0400 (Sat, 11 Oct 2025) EndedAt: 2025-10-11 03:19:56 -0400 (Sat, 11 Oct 2025) EllapsedTime: 929.9 seconds RetCode: 0 Status: OK CheckDir: pgxRpi.Rcheck Warnings: 0