Package: pgxRpi Version: 1.7.0 Command: /home/biocbuild/bbs-3.23-bioc/R/bin/R CMD INSTALL pgxRpi StartedAt: 2025-11-05 15:38:00 -0500 (Wed, 05 Nov 2025) EndedAt: 2025-11-05 15:38:03 -0500 (Wed, 05 Nov 2025) EllapsedTime: 3.2 seconds RetCode: 0 Status: OK