Package: pgxRpi Version: 1.7.0 Command: /home/biocbuild/bbs-3.23-bioc/R/bin/R CMD check --install=check:pgxRpi.install-out.txt --library=/home/biocbuild/bbs-3.23-bioc/R/site-library --timings pgxRpi_1.7.0.tar.gz StartedAt: 2025-11-17 02:39:19 -0500 (Mon, 17 Nov 2025) EndedAt: 2025-11-17 02:55:12 -0500 (Mon, 17 Nov 2025) EllapsedTime: 953.3 seconds RetCode: 0 Status: OK CheckDir: pgxRpi.Rcheck Warnings: 0