Package: pgca Version: 1.33.0 Command: /Library/Frameworks/R.framework/Resources/bin/R CMD INSTALL pgca StartedAt: 2025-10-27 15:02:41 -0400 (Mon, 27 Oct 2025) EndedAt: 2025-10-27 15:02:55 -0400 (Mon, 27 Oct 2025) EllapsedTime: 13.6 seconds RetCode: 0 Status: OK