Package: pgca Version: 1.33.0 Command: /Library/Frameworks/R.framework/Resources/bin/R CMD INSTALL pgca StartedAt: 2025-10-06 15:01:34 -0400 (Mon, 06 Oct 2025) EndedAt: 2025-10-06 15:01:36 -0400 (Mon, 06 Oct 2025) EllapsedTime: 2.1 seconds RetCode: 0 Status: OK