Package: pgca Version: 1.33.0 Command: /Library/Frameworks/R.framework/Resources/bin/R CMD build --keep-empty-dirs --no-resave-data pgca StartedAt: 2025-10-06 17:20:19 -0400 (Mon, 06 Oct 2025) EndedAt: 2025-10-06 17:20:22 -0400 (Mon, 06 Oct 2025) EllapsedTime: 3.0 seconds RetCode: 0 Status: OK PackageFile: pgca_1.33.0.tar.gz PackageFileSize: 217.6 KiB