Package: pgca Version: 1.33.0 Command: rm -rf pgca.buildbin-libdir && mkdir pgca.buildbin-libdir && /Users/biocbuild/BBS/utils/build-universal.sh pgca_1.33.0.tar.gz /Library/Frameworks/R.framework/Resources/bin/R pgca.buildbin-libdir StartedAt: 2025-10-06 22:54:46 -0400 (Mon, 06 Oct 2025) EndedAt: 2025-10-06 22:54:48 -0400 (Mon, 06 Oct 2025) EllapsedTime: 2.0 seconds RetCode: 0 Status: OK PackageFile: pgca_1.33.0.tgz PackageFileSize: 144.3 KiB