Package: pfamAnalyzeR Version: 1.11.0 Command: /home/biocbuild/bbs-3.23-bioc/R/bin/R CMD INSTALL pfamAnalyzeR StartedAt: 2025-11-21 15:09:07 -0500 (Fri, 21 Nov 2025) EndedAt: 2025-11-21 15:09:11 -0500 (Fri, 21 Nov 2025) EllapsedTime: 3.9 seconds RetCode: 0 Status: OK