Package: pfamAnalyzeR Version: 1.11.0 Command: /home/biocbuild/bbs-3.23-bioc/R/bin/R CMD build --keep-empty-dirs --no-resave-data pfamAnalyzeR StartedAt: 2025-11-21 19:17:37 -0500 (Fri, 21 Nov 2025) EndedAt: 2025-11-21 19:17:44 -0500 (Fri, 21 Nov 2025) EllapsedTime: 7.0 seconds RetCode: 0 Status: OK PackageFile: pfamAnalyzeR_1.11.0.tar.gz PackageFileSize: 351.9 KiB