Package: pfamAnalyzeR Version: 1.11.0 Command: /Library/Frameworks/R.framework/Resources/bin/R CMD INSTALL pfamAnalyzeR StartedAt: 2025-11-21 15:15:26 -0500 (Fri, 21 Nov 2025) EndedAt: 2025-11-21 15:15:48 -0500 (Fri, 21 Nov 2025) EllapsedTime: 22.2 seconds RetCode: 0 Status: OK