Package: pfamAnalyzeR Version: 1.11.0 Command: /Library/Frameworks/R.framework/Resources/bin/R CMD build --keep-empty-dirs --no-resave-data pfamAnalyzeR StartedAt: 2025-11-21 18:10:38 -0500 (Fri, 21 Nov 2025) EndedAt: 2025-11-21 18:10:50 -0500 (Fri, 21 Nov 2025) EllapsedTime: 11.4 seconds RetCode: 0 Status: OK PackageFile: pfamAnalyzeR_1.11.0.tar.gz PackageFileSize: 351.8 KiB