Package: pfamAnalyzeR Version: 1.11.0 Command: rm -rf pfamAnalyzeR.buildbin-libdir && mkdir pfamAnalyzeR.buildbin-libdir && /Users/biocbuild/BBS/utils/build-universal.sh pfamAnalyzeR_1.11.0.tar.gz /Library/Frameworks/R.framework/Resources/bin/R pfamAnalyzeR.buildbin-libdir StartedAt: 2025-11-22 01:49:21 -0500 (Sat, 22 Nov 2025) EndedAt: 2025-11-22 01:49:31 -0500 (Sat, 22 Nov 2025) EllapsedTime: 10.5 seconds RetCode: 0 Status: OK PackageFile: pfamAnalyzeR_1.11.0.tgz PackageFileSize: 311.1 KiB