Package: pfamAnalyzeR Version: 1.9.0 Command: /Library/Frameworks/R.framework/Resources/bin/R CMD build --keep-empty-dirs --no-resave-data pfamAnalyzeR StartedAt: 2025-10-24 17:20:54 -0400 (Fri, 24 Oct 2025) EndedAt: 2025-10-24 17:20:58 -0400 (Fri, 24 Oct 2025) EllapsedTime: 4.0 seconds RetCode: 0 Status: OK PackageFile: pfamAnalyzeR_1.9.0.tar.gz PackageFileSize: 351.8 KiB