Package: pepXMLTab Version: 1.45.0 Command: /home/biocbuild/bbs-3.23-bioc/R/bin/R CMD INSTALL pepXMLTab StartedAt: 2025-11-16 15:03:17 -0500 (Sun, 16 Nov 2025) EndedAt: 2025-11-16 15:03:25 -0500 (Sun, 16 Nov 2025) EllapsedTime: 8.2 seconds RetCode: 0 Status: OK