Package: pepStat Version: 1.45.0 Command: /home/biocbuild/bbs-3.23-bioc/R/bin/R CMD INSTALL pepStat StartedAt: 2025-11-05 15:22:28 -0500 (Wed, 05 Nov 2025) EndedAt: 2025-11-05 15:22:45 -0500 (Wed, 05 Nov 2025) EllapsedTime: 16.7 seconds RetCode: 0 Status: OK