Package: pepStat Version: 1.43.0 Command: rm -rf pepStat.buildbin-libdir && mkdir pepStat.buildbin-libdir && /Users/biocbuild/BBS/utils/build-universal.sh pepStat_1.43.0.tar.gz /Library/Frameworks/R.framework/Resources/bin/R pepStat.buildbin-libdir StartedAt: 2025-10-14 02:59:36 -0400 (Tue, 14 Oct 2025) EndedAt: 2025-10-14 03:00:05 -0400 (Tue, 14 Oct 2025) EllapsedTime: 28.9 seconds RetCode: 0 Status: OK PackageFile: pepStat_1.43.0.tgz PackageFileSize: 733.9 KiB