Package: pengls Version: 1.17.0 Command: /home/biocbuild/bbs-3.23-bioc/R/bin/R CMD INSTALL pengls StartedAt: 2025-11-07 15:06:32 -0500 (Fri, 07 Nov 2025) EndedAt: 2025-11-07 15:07:09 -0500 (Fri, 07 Nov 2025) EllapsedTime: 36.4 seconds RetCode: 0 Status: OK