Package: pengls Version: 1.17.0 Command: /home/biocbuild/bbs-3.23-bioc/R/bin/R CMD build --keep-empty-dirs --no-resave-data pengls StartedAt: 2025-11-07 19:11:02 -0500 (Fri, 07 Nov 2025) EndedAt: 2025-11-07 19:13:06 -0500 (Fri, 07 Nov 2025) EllapsedTime: 124.2 seconds RetCode: 0 Status: OK PackageFile: pengls_1.17.0.tar.gz PackageFileSize: 57.77 KiB