Package: pengls Version: 1.15.2 Command: /Library/Frameworks/R.framework/Resources/bin/R CMD INSTALL pengls StartedAt: 2025-10-07 15:08:43 -0400 (Tue, 07 Oct 2025) EndedAt: 2025-10-07 15:09:56 -0400 (Tue, 07 Oct 2025) EllapsedTime: 72.8 seconds RetCode: 0 Status: OK