Package: pengls Version: 1.15.2 Command: /Library/Frameworks/R.framework/Resources/bin/R CMD build --keep-empty-dirs --no-resave-data pengls StartedAt: 2025-10-07 18:30:11 -0400 (Tue, 07 Oct 2025) EndedAt: 2025-10-07 18:35:16 -0400 (Tue, 07 Oct 2025) EllapsedTime: 304.9 seconds RetCode: 0 Status: OK PackageFile: pengls_1.15.2.tar.gz PackageFileSize: 62.21 KiB