Package: pengls Version: 1.15.2 Command: rm -rf pengls.buildbin-libdir && mkdir pengls.buildbin-libdir && /Users/biocbuild/BBS/utils/build-universal.sh pengls_1.15.2.tar.gz /Library/Frameworks/R.framework/Resources/bin/R pengls.buildbin-libdir StartedAt: 2025-10-08 02:33:17 -0400 (Wed, 08 Oct 2025) EndedAt: 2025-10-08 02:33:28 -0400 (Wed, 08 Oct 2025) EllapsedTime: 11.2 seconds RetCode: 0 Status: OK PackageFile: pengls_1.15.2.tgz PackageFileSize: 97.19 KiB