Package: pengls Version: 1.15.2 Maintainer: Stijn Hawinkel MaintainerEmail: stijn.hawinkel at psb.ugent.be git_url: https://git.bioconductor.org/packages/pengls git_branch: devel git_last_commit: 02aa3f0 git_last_commit_date: 2025-10-07 04:41:53 -0400 (Tue, 07 Oct 2025)