Package: peco Version: 1.23.0 Command: /home/biocbuild/bbs-3.23-bioc/R/bin/R CMD INSTALL peco StartedAt: 2025-11-05 16:01:02 -0500 (Wed, 05 Nov 2025) EndedAt: 2025-11-05 16:01:28 -0500 (Wed, 05 Nov 2025) EllapsedTime: 26.5 seconds RetCode: 0 Status: OK