Package: peco Version: 1.23.0 Command: /home/biocbuild/bbs-3.23-bioc/R/bin/R CMD build --keep-empty-dirs --no-resave-data peco StartedAt: 2025-11-05 19:17:04 -0500 (Wed, 05 Nov 2025) EndedAt: 2025-11-05 19:19:14 -0500 (Wed, 05 Nov 2025) EllapsedTime: 130.2 seconds RetCode: 0 Status: OK PackageFile: peco_1.23.0.tar.gz PackageFileSize: 1.067 MiB