Package: peco Version: 1.21.1 Command: /Library/Frameworks/R.framework/Resources/bin/R CMD INSTALL peco StartedAt: 2025-10-15 15:49:11 -0400 (Wed, 15 Oct 2025) EndedAt: 2025-10-15 15:49:50 -0400 (Wed, 15 Oct 2025) EllapsedTime: 38.4 seconds RetCode: 0 Status: OK