Package: peco Version: 1.21.1 Command: /Library/Frameworks/R.framework/Resources/bin/R CMD build --keep-empty-dirs --no-resave-data peco StartedAt: 2025-10-16 19:11:33 -0400 (Thu, 16 Oct 2025) EndedAt: 2025-10-16 19:14:58 -0400 (Thu, 16 Oct 2025) EllapsedTime: 205.5 seconds RetCode: 0 Status: OK PackageFile: peco_1.21.1.tar.gz PackageFileSize: 1.067 MiB