Package: peco Version: 1.21.1 Command: rm -rf peco.buildbin-libdir && mkdir peco.buildbin-libdir && /Users/biocbuild/BBS/utils/build-universal.sh peco_1.21.1.tar.gz /Library/Frameworks/R.framework/Resources/bin/R peco.buildbin-libdir StartedAt: 2025-10-16 03:08:32 -0400 (Thu, 16 Oct 2025) EndedAt: 2025-10-16 03:09:13 -0400 (Thu, 16 Oct 2025) EllapsedTime: 41.5 seconds RetCode: 0 Status: OK PackageFile: peco_1.21.1.tgz PackageFileSize: 1.125 MiB