Package: peco Version: 1.21.0 Command: /Library/Frameworks/R.framework/Resources/bin/R CMD build --keep-empty-dirs --no-resave-data peco StartedAt: 2025-10-06 17:20:01 -0400 (Mon, 06 Oct 2025) EndedAt: 2025-10-06 17:21:13 -0400 (Mon, 06 Oct 2025) EllapsedTime: 71.8 seconds RetCode: 0 Status: OK PackageFile: peco_1.21.0.tar.gz PackageFileSize: 1.068 MiB