Package: peco Version: 1.21.0 Command: rm -rf peco.buildbin-libdir && mkdir peco.buildbin-libdir && /Users/biocbuild/BBS/utils/build-universal.sh peco_1.21.0.tar.gz /Library/Frameworks/R.framework/Resources/bin/R peco.buildbin-libdir StartedAt: 2025-10-07 22:56:01 -0400 (Tue, 07 Oct 2025) EndedAt: 2025-10-07 22:56:13 -0400 (Tue, 07 Oct 2025) EllapsedTime: 12.3 seconds RetCode: 0 Status: OK PackageFile: peco_1.21.0.tgz PackageFileSize: 1.127 MiB