Package: peco Version: 1.23.0 Maintainer: Chiaowen Joyce Hsiao MaintainerEmail: joyce.hsiao1 at gmail.com git_url: https://git.bioconductor.org/packages/peco git_branch: devel git_last_commit: 92a92cd git_last_commit_date: 2025-10-29 10:58:02 -0400 (Wed, 29 Oct 2025)