Package: peakPantheR Version: 1.23.3 Command: /home/biocbuild/R/R/bin/R CMD INSTALL peakPantheR StartedAt: 2025-10-20 20:55:25 -0000 (Mon, 20 Oct 2025) EndedAt: 2025-10-20 20:55:40 -0000 (Mon, 20 Oct 2025) EllapsedTime: 14.5 seconds RetCode: 0 Status: OK