Package: peakPantheR Version: 1.23.3 Command: /home/biocbuild/R/R/bin/R CMD build --keep-empty-dirs --no-resave-data peakPantheR StartedAt: 2025-10-21 02:00:34 -0000 (Tue, 21 Oct 2025) EndedAt: 2025-10-21 02:02:29 -0000 (Tue, 21 Oct 2025) EllapsedTime: 115.1 seconds RetCode: 0 Status: OK PackageFile: peakPantheR_1.23.3.tar.gz PackageFileSize: 4.12 MiB