Package: peakPantheR Version: 1.25.0 Command: /home/biocbuild/bbs-3.23-bioc/R/bin/R CMD INSTALL peakPantheR StartedAt: 2025-11-07 15:43:05 -0500 (Fri, 07 Nov 2025) EndedAt: 2025-11-07 15:43:15 -0500 (Fri, 07 Nov 2025) EllapsedTime: 10.4 seconds RetCode: 0 Status: OK