Package: peakPantheR Version: 1.25.0 Command: /home/biocbuild/bbs-3.23-bioc/R/bin/R CMD build --keep-empty-dirs --no-resave-data peakPantheR StartedAt: 2025-11-06 19:09:40 -0500 (Thu, 06 Nov 2025) EndedAt: 2025-11-06 19:11:18 -0500 (Thu, 06 Nov 2025) EllapsedTime: 98.1 seconds RetCode: 0 Status: OK PackageFile: peakPantheR_1.25.0.tar.gz PackageFileSize: 3.953 MiB