Package: peakPantheR Version: 1.23.3 Command: /Library/Frameworks/R.framework/Resources/bin/R CMD INSTALL peakPantheR StartedAt: 2025-10-17 15:38:35 -0400 (Fri, 17 Oct 2025) EndedAt: 2025-10-17 15:38:51 -0400 (Fri, 17 Oct 2025) EllapsedTime: 16.3 seconds RetCode: 0 Status: OK