Package: peakPantheR Version: 1.23.3 Command: /Library/Frameworks/R.framework/Resources/bin/R CMD build --keep-empty-dirs --no-resave-data peakPantheR StartedAt: 2025-10-16 19:11:24 -0400 (Thu, 16 Oct 2025) EndedAt: 2025-10-16 19:13:54 -0400 (Thu, 16 Oct 2025) EllapsedTime: 149.3 seconds RetCode: 0 Status: OK PackageFile: peakPantheR_1.23.3.tar.gz PackageFileSize: 3.956 MiB