Package: peakPantheR Version: 1.23.3 Command: rm -rf peakPantheR.buildbin-libdir && mkdir peakPantheR.buildbin-libdir && /Users/biocbuild/BBS/utils/build-universal.sh peakPantheR_1.23.3.tar.gz /Library/Frameworks/R.framework/Resources/bin/R peakPantheR.buildbin-libdir StartedAt: 2025-10-17 04:05:45 -0400 (Fri, 17 Oct 2025) EndedAt: 2025-10-17 04:06:06 -0400 (Fri, 17 Oct 2025) EllapsedTime: 20.9 seconds RetCode: 0 Status: OK PackageFile: peakPantheR_1.23.3.tgz PackageFileSize: 3.046 MiB