Package: peakCombiner Version: 0.99.602 Command: /home/biocbuild/bbs-3.22-bioc/R/bin/R CMD INSTALL peakCombiner StartedAt: 2025-10-14 15:15:23 -0400 (Tue, 14 Oct 2025) EndedAt: 2025-10-14 15:15:27 -0400 (Tue, 14 Oct 2025) EllapsedTime: 4.1 seconds RetCode: 0 Status: OK