Package: peakCombiner Version: 0.99.602 Command: /home/biocbuild/bbs-3.22-bioc/R/bin/R CMD check --install=check:peakCombiner.install-out.txt --library=/home/biocbuild/bbs-3.22-bioc/R/site-library --timings peakCombiner_0.99.602.tar.gz StartedAt: 2025-10-15 02:54:01 -0400 (Wed, 15 Oct 2025) EndedAt: 2025-10-15 02:55:56 -0400 (Wed, 15 Oct 2025) EllapsedTime: 115.1 seconds RetCode: 0 Status: OK CheckDir: peakCombiner.Rcheck Warnings: 0