Package: peakCombiner Version: 0.99.602 Command: /home/biocbuild/bbs-3.22-bioc/R/bin/R CMD build --keep-empty-dirs --no-resave-data --md5 peakCombiner StartedAt: 2025-10-14 19:16:50 -0400 (Tue, 14 Oct 2025) EndedAt: 2025-10-14 19:17:25 -0400 (Tue, 14 Oct 2025) EllapsedTime: 35.0 seconds RetCode: 0 Status: OK PackageFile: peakCombiner_0.99.602.tar.gz PackageFileSize: 356.4 KiB