Package: peakCombiner Version: 1.1.0 Command: /home/biocbuild/bbs-3.23-bioc/R/bin/R CMD INSTALL peakCombiner StartedAt: 2025-11-06 15:14:25 -0500 (Thu, 06 Nov 2025) EndedAt: 2025-11-06 15:14:29 -0500 (Thu, 06 Nov 2025) EllapsedTime: 4.6 seconds RetCode: 0 Status: OK