Package: peakCombiner Version: 1.1.0 Command: /home/biocbuild/bbs-3.23-bioc/R/bin/R CMD build --keep-empty-dirs --no-resave-data peakCombiner StartedAt: 2025-11-06 19:09:34 -0500 (Thu, 06 Nov 2025) EndedAt: 2025-11-06 19:10:09 -0500 (Thu, 06 Nov 2025) EllapsedTime: 35.0 seconds RetCode: 0 Status: OK PackageFile: peakCombiner_1.1.0.tar.gz PackageFileSize: 353.7 KiB