Package: peakCombiner Version: 0.99.602 Command: /Library/Frameworks/R.framework/Resources/bin/R CMD INSTALL peakCombiner StartedAt: 2025-10-14 15:17:53 -0400 (Tue, 14 Oct 2025) EndedAt: 2025-10-14 15:18:01 -0400 (Tue, 14 Oct 2025) EllapsedTime: 7.8 seconds RetCode: 0 Status: OK