Package: peakCombiner Version: 0.99.602 Command: /Library/Frameworks/R.framework/Resources/bin/R CMD build --keep-empty-dirs --no-resave-data peakCombiner StartedAt: 2025-10-14 18:40:01 -0400 (Tue, 14 Oct 2025) EndedAt: 2025-10-14 18:41:09 -0400 (Tue, 14 Oct 2025) EllapsedTime: 67.3 seconds RetCode: 0 Status: OK PackageFile: peakCombiner_0.99.602.tar.gz PackageFileSize: 367.9 KiB